BEGIN:VCALENDAR
VERSION:2.0
PRODID:icalendar-ruby
CALSCALE:GREGORIAN
METHOD:PUBLISH
BEGIN:VEVENT
DTSTAMP:20260422T150636Z
UID:24-3337979@firstbrethrenchurch.com
DTSTART:20260825T111500Z
DTEND:20260825T121500Z
CLASS:PUBLIC
CREATED:20260422T095814
DESCRIPTION:7:14 Prayer
LAST-MODIFIED:20260422T095814
LOCATION:NFBC Facebook page
SUMMARY:7:14 Prayer
URL;VALUE=URI:https://www.firstbrethrenchurch.com/events/7-14-prayer/2026-0
 8-25
END:VEVENT
END:VCALENDAR
