BEGIN:VCALENDAR
VERSION:2.0
PRODID:icalendar-ruby
CALSCALE:GREGORIAN
METHOD:PUBLISH
BEGIN:VEVENT
DTSTAMP:20260422T175235Z
UID:24-3340127@firstbrethrenchurch.com
DTSTART:20260908T111500Z
DTEND:20260908T121500Z
CLASS:PUBLIC
CREATED:20260422T125337
DESCRIPTION:7:14 Prayer
LAST-MODIFIED:20260422T125337
LOCATION:NFBC Facebook page
SUMMARY:7:14 Prayer
URL;VALUE=URI:https://www.firstbrethrenchurch.com/events/7-14-prayer/2026-0
 9-08
END:VEVENT
END:VCALENDAR
