BEGIN:VCALENDAR
VERSION:2.0
PRODID:icalendar-ruby
CALSCALE:GREGORIAN
METHOD:PUBLISH
BEGIN:VEVENT
DTSTAMP:20260422T215239Z
UID:24-3342277@firstbrethrenchurch.com
DTSTART:20260929T111500Z
DTEND:20260929T121500Z
CLASS:PUBLIC
CREATED:20260422T154829
DESCRIPTION:7:14 Prayer
LAST-MODIFIED:20260422T154829
LOCATION:NFBC Facebook page
SUMMARY:7:14 Prayer
URL;VALUE=URI:https://www.firstbrethrenchurch.com/events/7-14-prayer/2026-0
 9-29
END:VEVENT
END:VCALENDAR
