BEGIN:VCALENDAR
VERSION:2.0
PRODID:icalendar-ruby
CALSCALE:GREGORIAN
METHOD:PUBLISH
BEGIN:VEVENT
DTSTAMP:20260423T001009Z
UID:24-3344426@firstbrethrenchurch.com
DTSTART:20261013T111500Z
DTEND:20261013T121500Z
CLASS:PUBLIC
CREATED:20260422T184218
DESCRIPTION:7:14 Prayer
LAST-MODIFIED:20260422T184218
LOCATION:NFBC Facebook page
SUMMARY:7:14 Prayer
URL;VALUE=URI:https://www.firstbrethrenchurch.com/events/7-14-prayer/2026-1
 0-13
END:VEVENT
END:VCALENDAR
