BEGIN:VCALENDAR
VERSION:2.0
PRODID:icalendar-ruby
CALSCALE:GREGORIAN
METHOD:PUBLISH
BEGIN:VEVENT
DTSTAMP:20260423T025358Z
UID:24-3346575@firstbrethrenchurch.com
DTSTART:20261027T111500Z
DTEND:20261027T121500Z
CLASS:PUBLIC
CREATED:20260422T213430
DESCRIPTION:7:14 Prayer
LAST-MODIFIED:20260422T213430
LOCATION:NFBC Facebook page
SUMMARY:7:14 Prayer
URL;VALUE=URI:https://www.firstbrethrenchurch.com/events/7-14-prayer/2026-1
 0-27
END:VEVENT
END:VCALENDAR
