BEGIN:VCALENDAR
VERSION:2.0
PRODID:icalendar-ruby
CALSCALE:GREGORIAN
METHOD:PUBLISH
BEGIN:VEVENT
DTSTAMP:20260423T040727Z
UID:24-3346576@firstbrethrenchurch.com
DTSTART:20261103T121500Z
DTEND:20261103T131500Z
CLASS:PUBLIC
CREATED:20260422T213430
DESCRIPTION:7:14 Prayer
LAST-MODIFIED:20260422T213430
LOCATION:NFBC Facebook page
SUMMARY:7:14 Prayer
URL;VALUE=URI:https://www.firstbrethrenchurch.com/events/7-14-prayer/2026-1
 1-03
END:VEVENT
END:VCALENDAR
