BEGIN:VCALENDAR
VERSION:2.0
PRODID:icalendar-ruby
CALSCALE:GREGORIAN
METHOD:PUBLISH
BEGIN:VEVENT
DTSTAMP:20260423T093137Z
UID:85-3347497@firstbrethrenchurch.com
DTSTART:20261104T230000Z
DTEND:20261105T003000Z
CLASS:PUBLIC
CREATED:20260422T213432
DESCRIPTION:
LAST-MODIFIED:20260422T213432
LOCATION:Nappanee First Brethren Church
SUMMARY:Kid's Quest FX
URL;VALUE=URI:https://www.firstbrethrenchurch.com/events/kids-quest-fx/2026
 -11-04
ATTACH;FILENAME=Kid%27sQuestFX-2.jpg;FMTTYPE=image/jpeg:https://dq5pwpg1q8r
 u0.cloudfront.net/2023/08/29/12/49/06/9a09b75e-dc4a-4145-b14b-42273aad5f0e
 /Kid%2527sQuestFX-2.jpg
END:VEVENT
END:VCALENDAR
